BEGIN:VCALENDAR
VERSION:2.0
PRODID:-//Forberg Smith - ECPv6.15.20//NONSGML v1.0//EN
CALSCALE:GREGORIAN
METHOD:PUBLISH
X-ORIGINAL-URL:https://forbergsmith.com
X-WR-CALDESC:Events for Forberg Smith
REFRESH-INTERVAL;VALUE=DURATION:PT1H
X-Robots-Tag:noindex
X-PUBLISHED-TTL:PT1H
BEGIN:VTIMEZONE
TZID:America/New_York
BEGIN:DAYLIGHT
TZOFFSETFROM:-0500
TZOFFSETTO:-0400
TZNAME:EDT
DTSTART:20230312T070000
END:DAYLIGHT
BEGIN:STANDARD
TZOFFSETFROM:-0400
TZOFFSETTO:-0500
TZNAME:EST
DTSTART:20231105T060000
END:STANDARD
BEGIN:DAYLIGHT
TZOFFSETFROM:-0500
TZOFFSETTO:-0400
TZNAME:EDT
DTSTART:20240310T070000
END:DAYLIGHT
BEGIN:STANDARD
TZOFFSETFROM:-0400
TZOFFSETTO:-0500
TZNAME:EST
DTSTART:20241103T060000
END:STANDARD
BEGIN:DAYLIGHT
TZOFFSETFROM:-0500
TZOFFSETTO:-0400
TZNAME:EDT
DTSTART:20250309T070000
END:DAYLIGHT
BEGIN:STANDARD
TZOFFSETFROM:-0400
TZOFFSETTO:-0500
TZNAME:EST
DTSTART:20251102T060000
END:STANDARD
BEGIN:DAYLIGHT
TZOFFSETFROM:-0500
TZOFFSETTO:-0400
TZNAME:EDT
DTSTART:20260308T070000
END:DAYLIGHT
BEGIN:STANDARD
TZOFFSETFROM:-0400
TZOFFSETTO:-0500
TZNAME:EST
DTSTART:20261101T060000
END:STANDARD
BEGIN:DAYLIGHT
TZOFFSETFROM:-0500
TZOFFSETTO:-0400
TZNAME:EDT
DTSTART:20270314T070000
END:DAYLIGHT
BEGIN:STANDARD
TZOFFSETFROM:-0400
TZOFFSETTO:-0500
TZNAME:EST
DTSTART:20271107T060000
END:STANDARD
END:VTIMEZONE
BEGIN:VEVENT
DTSTART;TZID=America/New_York:20260423T080000
DTEND;TZID=America/New_York:20260423T170000
DTSTAMP:20260424T064240
CREATED:20260105T143357Z
LAST-MODIFIED:20260113T152149Z
UID:5059-1776931200-1776963600@forbergsmith.com
SUMMARY:Electromagnetic Flowmeters Fundamentals
DESCRIPTION:Gain expertise in the fundamentals of EMF technology.\nElectromagnetic flowmeters are among the most widely used flow technologies in industrial process measurement. This one‑day course provides a practical\, application‑focused introduction to EMF operation\, design\, installation\, and troubleshooting.\nWhether you’re new to flow measurement or looking to sharpen your skills\, this course delivers the knowledge you need to confidently specify\, install\, and maintain electromagnetic flowmeters in demanding process environments. \nTopics Covered: \n\nSignal generation: magnetic fields\, electrodes\, conductive fluids\nFluid conductivity and suitability\nEMF construction: coils\, liners\, electrodes\, transmitters\, grounding\nEmpty Pipe Detection and reference electrodes\nMagmeter benefits\nLimitations and usage boundaries\nInstallation and grounding best practices\nCommon problems: coating\, buildup\, noise\, signal instability\nTroubleshooting for dependable performance
URL:https://forbergsmith.com/event/electromagnetic-flowmeters-fundamentals/
LOCATION:Forberg Smith Process Training Unit\, 3838 Clay Avenue SW\, Wyoming\, MI\, 49548\, United States
CATEGORIES:Process Training Unit
ATTACH;FMTTYPE=image/jpeg:https://forbergsmith.com/wp-content/uploads/2023/10/FS_PTU_Training-Image.jpg
ORGANIZER;CN="Bill Schultz":MAILTO:bill.schultz@forbergsmith.com
END:VEVENT
BEGIN:VEVENT
DTSTART;TZID=America/New_York:20260421T080000
DTEND;TZID=America/New_York:20260422T170000
DTSTAMP:20260424T064240
CREATED:20260105T143604Z
LAST-MODIFIED:20260113T152236Z
UID:5040-1776758400-1776877200@forbergsmith.com
SUMMARY:Coriolis Mass Flow Fundamentals
DESCRIPTION:This Coriolis flow course starts by providing maintenance and engineering personnel with a basic understanding of the Coriolis principle. This basic portion focuses on concepts applicable to virtually any manufacturer’s equipment. Following this introduction\, we proceed with in-depth training on density and concentration measurements. This class is a combination of classroom and hands-on training in our PTU. \nTopics Covered: \n\nFlow Basics and Advanced Flow Metering\nDifferential Pressure Flow Measurement\nCoriolis Flow Meters\nElectromagnetic Flow Meters\nVortex Flow Meters\nUltrasonic Flow Meters
URL:https://forbergsmith.com/event/coriolis-mass-flow-fundamentals-2/
LOCATION:Forberg Smith Process Training Unit\, 3838 Clay Avenue SW\, Wyoming\, MI\, 49548\, United States
CATEGORIES:Process Training Unit
ATTACH;FMTTYPE=image/jpeg:https://forbergsmith.com/wp-content/uploads/2023/10/FS_PTU_Training-Image.jpg
ORGANIZER;CN="Bill Schultz":MAILTO:bill.schultz@forbergsmith.com
END:VEVENT
BEGIN:VEVENT
DTSTART;TZID=America/New_York:20260217T080000
DTEND;TZID=America/New_York:20260218T170000
DTSTAMP:20260424T064240
CREATED:20260105T143620Z
LAST-MODIFIED:20260206T151133Z
UID:5037-1771315200-1771434000@forbergsmith.com
SUMMARY:Basic Instrumentation Course
DESCRIPTION:This two day introductory course on basic instrumentation will start by providing maintenance and engineering personnel with a review of instrumentation technologies\, terminology\, symbols needed to work in the field. Understanding P&ID’s and basic wiring techniques will be covered along with how instruments communicate. Students will be exposed to instrument disciplines including Level\, Flow\, Pressure\, and Temperature. \nTopics Covered: \n\nFlow Instrumentation: Ultrasonic\, Thermal Mass\, Magnetic\, Vortex\, and Coriolis\nLevel Instrumentation: Point and continuous level\nPressure Instrumentation: Gauge\, absolute\, differential\, and hydrostatic\nTemperature Sensors and Transmitters
URL:https://forbergsmith.com/event/basic-instrumentation-course-02-2026/
LOCATION:Forberg Smith Process Training Unit\, 3838 Clay Avenue SW\, Wyoming\, MI\, 49548\, United States
CATEGORIES:Process Training Unit
ATTACH;FMTTYPE=image/jpeg:https://forbergsmith.com/wp-content/uploads/2023/10/FS_PTU_Training-Image.jpg
ORGANIZER;CN="Bill Schultz":MAILTO:bill.schultz@forbergsmith.com
END:VEVENT
BEGIN:VEVENT
DTSTART;TZID=America/New_York:20251007T080000
DTEND;TZID=America/New_York:20251008T170000
DTSTAMP:20260424T064240
CREATED:20250313T224547Z
LAST-MODIFIED:20250313T230936Z
UID:4740-1759824000-1759942800@forbergsmith.com
SUMMARY:Pressure & Temperature School
DESCRIPTION:This introductory course provides maintenance and engineering personnel with a basic understanding of numerous pressure and temperature technologies. Learn concepts applicable to virtually any manufacturer’s equipment as well as the skills needed to set up and maintain such equipment. Introductions and lectures on the technologies will be followed with in-depth demonstrations and hands-on training exercises. \nTopics Covered:\n• Pressure Instrumentation – gauge\, absolute\, differential\, and hydrostatic\n• Temperature sensors and transmitters
URL:https://forbergsmith.com/event/pressure-temperature-school-4/
LOCATION:Forberg Smith Process Training Unit\, 3838 Clay Avenue SW\, Wyoming\, MI\, 49548\, United States
CATEGORIES:Process Training Unit
ATTACH;FMTTYPE=image/jpeg:https://forbergsmith.com/wp-content/uploads/2024/05/Pressure-Temperature-School-scaled.jpg
ORGANIZER;CN="Bill Schultz":MAILTO:bill.schultz@forbergsmith.com
END:VEVENT
BEGIN:VEVENT
DTSTART;TZID=America/New_York:20250730T080000
DTEND;TZID=America/New_York:20250730T170000
DTSTAMP:20260424T064240
CREATED:20250313T220234Z
LAST-MODIFIED:20250701T180708Z
UID:4733-1753862400-1753894800@forbergsmith.com
SUMMARY:Coriolis Mass Flow Fundamentals
DESCRIPTION:This Coriolis flow course starts by providing maintenance and engineering personnel with a basic understanding of the Coriolis principle. This basic portion focuses on concepts applicable to virtually any manufacturer’s equipment. Following this introduction\, we proceed with in-depth training on density and concentration measurements. This class is a combination of classroom and hands-on training in our PTU. \nTopics: \n\nOverview of Coriolis mass flow measurement principles.\nSpecifying appropriate Coriolis flowmeters for various installations.\nSetting up and commissioning E+H Promass Coriolis flowmeters.\nDiagnosing and resolving common issues in Coriolis systems.
URL:https://forbergsmith.com/event/coriolis-mass-flow-fundamentals/
LOCATION:Forberg Smith Process Training Unit\, 3838 Clay Avenue SW\, Wyoming\, MI\, 49548\, United States
CATEGORIES:Process Training Unit
ATTACH;FMTTYPE=image/jpeg:https://forbergsmith.com/wp-content/uploads/2023/10/FS_Coriolis-Training_Image.jpg
ORGANIZER;CN="Bill Schultz":MAILTO:bill.schultz@forbergsmith.com
END:VEVENT
BEGIN:VEVENT
DTSTART;TZID=America/New_York:20250729T080000
DTEND;TZID=America/New_York:20250729T170000
DTSTAMP:20260424T064240
CREATED:20250311T203213Z
LAST-MODIFIED:20250710T131511Z
UID:4718-1753776000-1753808400@forbergsmith.com
SUMMARY:Flow School: Introductory
DESCRIPTION:This basic course starts with the fundamentals\, which focus on the physics of flow and concepts applicable to virtually any manufacturer’s equipment. The next portion provides maintenance and engineering personnel with a basic understanding of numerous flow technologies and operating principles. Following this introduction\, we proceed with in-depth material on magnetic and Coriolis flow meters. The class is a combination of classroom and hands-on training. \nTopics: \n\nFlow Basics and Advanced Flow Metering\nDifferential Pressure Flow Measurement\nCoriolis Flow Meters\nElectromagnetic Flow Meters\nVortex Flow Meters\nUltrasonic Flow Meters
URL:https://forbergsmith.com/event/flow-school-introductory-4/
LOCATION:Forberg Smith Process Training Unit\, 3838 Clay Avenue SW\, Wyoming\, MI\, 49548\, United States
CATEGORIES:Process Training Unit
ATTACH;FMTTYPE=image/jpeg:https://forbergsmith.com/wp-content/uploads/2024/06/Flow-School-Introductory-scaled-ktcFfC.tmp_.jpg
ORGANIZER;CN="Bill Schultz":MAILTO:bill.schultz@forbergsmith.com
END:VEVENT
BEGIN:VEVENT
DTSTART;TZID=America/New_York:20250422T080000
DTEND;TZID=America/New_York:20250423T170000
DTSTAMP:20260424T064240
CREATED:20250227T024055Z
LAST-MODIFIED:20250411T195429Z
UID:4592-1745308800-1745427600@forbergsmith.com
SUMMARY:Basic Instrumentation Course
DESCRIPTION:This two-day introductory course on basic instrumentation provides maintenance and engineering personnel with a review of instrumentation technologies\, terminology\, and symbols needed to work in the field. Understanding P&ID’s and basic wiring techniques will be covered along with how instruments communicate. Students will be exposed to instrument disciplines including level\, flow\, pressure\, and temperature. \nTopics Covered\n• Flow Instrumentation – Ultrasonic\, Thermal Mass\, Magnetic\, Vortex\, and Coriolis\n• Level Instrumentation – point and continuous level\n• Pressure Instrumentation – gauge\, absolute\, differential\, and hydrostatic\n• Temperature sensors and transmitters
URL:https://forbergsmith.com/event/basic-instrumentation-course-4/
LOCATION:Forberg Smith Process Training Unit\, 3838 Clay Avenue SW\, Wyoming\, MI\, 49548\, United States
CATEGORIES:Process Training Unit
ATTACH;FMTTYPE=image/jpeg:https://forbergsmith.com/wp-content/uploads/2024/06/Basic-Instrumentation-Course-scaled-UsIzEZ.tmp_.jpg
ORGANIZER;CN="Bill Schultz":MAILTO:bill.schultz@forbergsmith.com
END:VEVENT
BEGIN:VEVENT
DTSTART;TZID=America/New_York:20241022T080000
DTEND;TZID=America/New_York:20241023T170000
DTSTAMP:20260424T064240
CREATED:20240524T181507Z
LAST-MODIFIED:20250227T140122Z
UID:4199-1729584000-1729702800@forbergsmith.com
SUMMARY:Basic Instrumentation Course
DESCRIPTION:This two-day introductory course on basic instrumentation provides maintenance and engineering personnel with a review of instrumentation technologies\, terminology\, and symbols needed to work in the field. Understanding P&ID’s and basic wiring techniques will be covered along with how instruments communicate. Students will be exposed to instrument disciplines including level\, flow\, pressure\, and temperature. \nTopics Covered\n• Flow Instrumentation – Ultrasonic\, Thermal Mass\, Magnetic\, Vortex\, and Coriolis\n• Level Instrumentation – point and continuous level\n• Pressure Instrumentation – gauge\, absolute\, differential\, and hydrostatic\n• Temperature sensors and transmitters
URL:https://forbergsmith.com/event/basic-instrumentation-course-3/
LOCATION:Forberg Smith Process Training Unit\, 3838 Clay Avenue SW\, Wyoming\, MI\, 49548\, United States
CATEGORIES:Process Training Unit
ATTACH;FMTTYPE=image/jpeg:https://forbergsmith.com/wp-content/uploads/2024/06/Basic-Instrumentation-Course-scaled-UsIzEZ.tmp_.jpg
ORGANIZER;CN="Bill Schultz":MAILTO:bill.schultz@forbergsmith.com
END:VEVENT
BEGIN:VEVENT
DTSTART;TZID=America/New_York:20240603T080000
DTEND;TZID=America/New_York:20240604T170000
DTSTAMP:20260424T064240
CREATED:20240524T181502Z
LAST-MODIFIED:20240610T195454Z
UID:4195-1717401600-1717520400@forbergsmith.com
SUMMARY:Basic Instrumentation Course
DESCRIPTION:This two-day introductory course on basic instrumentation provides maintenance and engineering personnel with a review of instrumentation technologies\, terminology\, and symbols needed to work in the field. Understanding P&ID’s and basic wiring techniques will be covered along with how instruments communicate. Students will be exposed to instrument disciplines including level\, flow\, pressure\, and temperature. Topics Covered • Flow Instrumentation – Ultrasonic\, Thermal Mass\, Magnetic\, Vortex\, and Coriolis • Level Instrumentation – point and continuous level • Pressure Instrumentation – gauge\, absolute\, differential\, and hydrostatic • Temperature sensors and transmitters
URL:https://forbergsmith.com/event/basic-instrumentation-course/
LOCATION:Forberg Smith Process Training Unit\, 3838 Clay Avenue SW\, Wyoming\, MI\, 49548\, United States
CATEGORIES:Process Training Unit
ATTACH;FMTTYPE=image/jpeg:https://forbergsmith.com/wp-content/uploads/2024/06/Basic-Instrumentation-Course-scaled-fu1sU6.tmp_.jpg
ORGANIZER;CN="Bill Schultz":MAILTO:bill.schultz@forbergsmith.com
END:VEVENT
END:VCALENDAR